BEGIN:VCALENDAR
VERSION:2.0
PRODID:-//wp-events-plugin.com//7.2.3.1//EN
TZID:Europe/Berlin
X-WR-TIMEZONE:Europe/Berlin
BEGIN:VEVENT
UID:163@charisma-magazin.eu
DTSTART;TZID=Europe/Berlin:20251005T090000
DTEND;TZID=Europe/Berlin:20251005T093000
DTSTAMP:20250908T122444Z
URL:https://charisma-magazin.eu/veranstaltungen/breakfast-fellowship/
SUMMARY:Breakfast Fellowship
DESCRIPTION:
ATTACH;FMTTYPE=image/jpeg:https://charisma-magazin.eu/wp-content/uploads/2
 025/09/Bild-Breakfst.jpg
LOCATION:Philadelphia Gemeinde International e.V.\, Orber Straße 30\, Fran
 kfurt-Fechenheim\, Hessen\, 60386\, Hessen\, Deutschland
GEO:50.127832;8.74537
X-APPLE-STRUCTURED-LOCATION;VALUE=URI;X-ADDRESS=Orber Straße 30\, Frankfur
 t-Fechenheim\, Hessen\, 60386\, Hessen\, Deutschland;X-APPLE-RADIUS=100;X-
 TITLE=Philadelphia Gemeinde International e.V.:geo:50.127832,8.74537
END:VEVENT
BEGIN:VTIMEZONE
TZID:Europe/Berlin
X-LIC-LOCATION:Europe/Berlin
BEGIN:DAYLIGHT
DTSTART:20250330T030000
TZOFFSETFROM:+0100
TZOFFSETTO:+0200
TZNAME:CEST
END:DAYLIGHT
END:VTIMEZONE
END:VCALENDAR