BEGIN:VCALENDAR
VERSION:2.0
PRODID:-//wp-events-plugin.com//7.2.3.1//EN
TZID:Europe/Berlin
X-WR-TIMEZONE:Europe/Berlin
BEGIN:VEVENT
UID:184@charisma-magazin.eu
DTSTART;TZID=Europe/Berlin:20260321T190000
DTEND;TZID=Europe/Berlin:20260321T210000
DTSTAMP:20251230T105419Z
URL:https://charisma-magazin.eu/veranstaltungen/ki-was-kann-sie-und-was-ni
 cht/
SUMMARY:KI - Was kann sie und was nicht?
DESCRIPTION:Vortrag von Prof. Dr. Arjan Kuijper (Fraunhofer IGD / TU Darmst
 adt)\n\nDampfmaschine\, Rechenmaschine und Handy. Jede dieser Erfindungen 
 hat unsere Welt tiefgreifend verändert. Nun spricht man von der nächsten
  Revolution: Künstliche Intelligenz. Prof. Dr. Arjan Kuijper (Fraunhofer 
 IGD / TU Darmstadt) führt in die Chancen und Grenzen rund um KI ein und b
 espricht\, wie und wo sie unser Leben beeinflusst und wie wir damit umgehe
 n können.\n\nDiese Veranstaltung ist für jeden – gläubig oder nicht\,
  neugierig oder skeptisch.\n\nDenk an jemanden\, der sich für dieses Them
 a interessiert – und bring ihn einfach mit oder leite die Einladung weit
 er.\n\nDie Veranstaltung findet im Restaurant „Altes Schalthaus“ in Da
 rmstadt statt. \n\nDer Eintritt ist kostenfrei. Sie zahlen lediglich Ihren
  eigenen Verzehr. Einlass ist ab 18:30 Uhr für die Essensbestellung. Begi
 nn des Vortrags ist 19 Uhr. Aus organisatorischen Gründen bitten wir um z
 eitnahe Anmeldung bis 19.03.2026.\n\nVeranstalter: Christen im Beruf e.V. 
 Chapter Darmstadt\n\nwww.CiB-DA.de  oder per Mail an darmstadt@christenim
 beruf.de
ATTACH;FMTTYPE=image/jpeg:https://charisma-magazin.eu/wp-content/uploads/2
 025/12/cvents-Flyer-arjan-Kuijper.jpg
LOCATION:Restaurant Altes Schalthaus\, Rodensteinweg 2\, Darmstadt\, Hessen
 \, 64293\, Deutschland
GEO:49.875243;8.623333
X-APPLE-STRUCTURED-LOCATION;VALUE=URI;X-ADDRESS=Rodensteinweg 2\, Darmstadt
 \, Hessen\, 64293\, Deutschland;X-APPLE-RADIUS=100;X-TITLE=Restaurant Alte
 s Schalthaus:geo:49.875243,8.623333
END:VEVENT
BEGIN:VTIMEZONE
TZID:Europe/Berlin
X-LIC-LOCATION:Europe/Berlin
BEGIN:STANDARD
DTSTART:20251026T020000
TZOFFSETFROM:+0200
TZOFFSETTO:+0100
TZNAME:CET
END:STANDARD
END:VTIMEZONE
END:VCALENDAR