BEGIN:VCALENDAR
VERSION:2.0
PRODID:-//wp-events-plugin.com//7.2.3.1//EN
TZID:Europe/Berlin
X-WR-TIMEZONE:Europe/Berlin
BEGIN:VEVENT
UID:13@charisma-magazin.eu
DTSTART;TZID=Europe/Berlin;VALUE=DATE:20241122
DTEND;TZID=Europe/Berlin;VALUE=DATE:20241125
DTSTAMP:20240507T133925Z
URL:https://charisma-magazin.eu/veranstaltungen/unternehmerseminar/
SUMMARY:Unternehmerseminar
DESCRIPTION:Du stehst in Leitung oder Verantwortung?\nOder bist kurz davor\
 , Leitung zu übernehmen?\nGott liegt so viel daran\, dass wir aus der He
 rzensbeziehung mit Ihm heraus lebendig und kraftvoll in unserem Alltag ha
 ndeln. Er freut sich\, wo wir Dinge für Ihn bewegen und tun\, aber zualle
 rerst geht es Ihm immer um Beziehung.\nWas heißt das konkret? Dich erwart
 et Begegnung\, Ermutigung &amp\; Freisetzung:\n\n\n 	Eintauchen in Seine 
 Gegenwart und Seine Realität durch Lobpreis\, Anbetung und prophetische E
 indrücke\n 	„Schlüssel“ für eine erlebbare tiefe Gottesbeziehung in
  jeder Situation\n 	ermutigende Gemeinschaft im Austausch miteinander\n\nD
 abei wird es u.a. um diese Themen gehen:\n\n\n 	Göttlich leiten - aber 
 wie?\n 	Herzensbeziehung - aber wie?\n 	glauben\, hoffen und vertrauen - I
 llusion oder Wirklichkeit?\n 	Sind Träume Schäume?\n 	Wie kann ich das v
 on Gott gegebene geistliche Erbe ergreifen?\n 	Wie kann ein Generationenwe
 chsel gut erfolgen?\n\nWir freuen uns\, dich auf dem Seminar willkommen zu
  heißen.\n\nDein Josua-Business-Team\nInformationen und Anmeldung 
ATTACH;FMTTYPE=image/jpeg:https://charisma-magazin.eu/wp-content/uploads/2
 024/05/Unternehmerseminar.jpg
LOCATION:Josua-Dienst e.V.\, Strittmatt 49\, Görwihl\, Baden-Würrtemberg\
 , 79733\, Südschwarzwald\, Deutschland
GEO:47.663058;8.046321
X-APPLE-STRUCTURED-LOCATION;VALUE=URI;X-ADDRESS=Strittmatt 49\, Görwihl\, 
 Baden-Würrtemberg\, 79733\, Südschwarzwald\, Deutschland;X-APPLE-RADIUS=
 100;X-TITLE=Josua-Dienst e.V.:geo:47.663058,8.046321
END:VEVENT
BEGIN:VTIMEZONE
TZID:Europe/Berlin
X-LIC-LOCATION:Europe/Berlin
BEGIN:STANDARD
DTSTART:20241027T020000
TZOFFSETFROM:+0200
TZOFFSETTO:+0100
TZNAME:CET
END:STANDARD
END:VTIMEZONE
END:VCALENDAR