BEGIN:VCALENDAR
VERSION:2.0
PRODID:-//wp-events-plugin.com//7.2.3.1//EN
TZID:Europe/Berlin
X-WR-TIMEZONE:Europe/Berlin
BEGIN:VEVENT
UID:84@charisma-magazin.eu
DTSTART;TZID=Europe/Berlin;VALUE=DATE:20250830
DTEND;TZID=Europe/Berlin;VALUE=DATE:20250831
DTSTAMP:20250109T122354Z
URL:https://charisma-magazin.eu/veranstaltungen/vom-hoellentor-zurueck-ins
 -leben/
SUMMARY:Vom Höllentor zurück ins Leben
DESCRIPTION:Kurt Bodenmann wurde seit seiner Kindheit von einem Selbstzerst
 örungszwang geplagt\, der ihn schließlich zu schwerwiegender Drogenabhä
 ngigkeit und zu einem Selbstmordversuch führte. Sein Leben war praktisch 
 am Ende\, als etwas geschah\, das eine vollkommene Veränderung brachte. E
 r wurde von seinen Süchten befreit und so bekam sein Leben eine völlige 
 Neuausrichtung und einen neuen Sinn. Von diesem Wunder und von dem\, was K
 urt Bodenmann seither in seinem Dienst in über 40 Nationen erlebt hat\, w
 ird er uns berichten und anschließend mit seiner Heilungsgabe durch Gebet
  dienen. Hören Sie diesen spannenden Bericht in entspannter Atmosphäre u
 nd genießen Sie mit Nachbarn\, Arbeitskollegen\, Freunden das Essen und d
 en Vortrag!\n\nDie Veranstaltung findet im Restaurant „Altes Schalthaus
 “ in Darmstadt statt.\n\nDie Veranstaltung ist öffentlich und wendet si
 ch an Christen und Nichtchristen. Gerade Nichtchristen erleben diese regel
 mäßig stattfindenden Veranstaltungen als wegweisend\, heilsam und ermuti
 gend\, weil die Sprecher von schwierigen Lebensereignissen sprechen (z.B. 
 Drogenvergangenheit\, schlimme Ereignisse) und dann darüber berichten\, w
 ie sich ihr Leben zum Guten verändert hat. Sie erleben live in den Vortr
 ägen\, wie Menschen ihren Alltag jetzt mit Gott leben und nun ein Leben i
 n persönlicher Beziehung mit Gott führen.\n\nDer Eintritt ist frei. Sie 
 zahlen lediglich Ihren eigenen Verzehr. Einlass ab 18:30 Uhr für Essensbe
 stellung. Beginn des Vortrags ist 19:00 Uhr.\n\nUnverbindliche Anmeldung g
 erne (wegen der Restaurantplanung) auf der Webseite:\n\nhttps://christen-i
 m-beruf.de/chapter/darmstadt/oder per Mail an darmstadt@christenimberuf.de
 \n\nAblauf des Abends:\n\n18:30 Uhr Einlass und Essens-/-Getränkebestellu
 ng (nach Menuekarte)\n\n19:00 Uhr Begrüßung und Beginn des Vortrags (Tei
 l 1)\n\n 	 20:00 Uhr gemeinsames Essen\n 	 20:30/20:45 Uhr Fortsetzung des
  Vortrags (Teil 2)\n\nWährend des Abendessens oder im Anschluss des Vortr
 ags haben Sie Gelegenheit zum Austausch oder zu einem privaten Gespräch m
 it dem Sprecher oder dem Team. \n\nBei Rückfragen stehen wir Ihnen auch s
 chon jetzt gerne zur Verfügung. Bitte melden Sie sich einfach per Mail (d
 armstadt@christenimberuf.de). \n\nAuf Wunsch kann eine Veranstaltung von C
 hristen im Beruf e.V. auch in Ihrer Stadt/Region stattfinden. Schauen Sie 
 auch gerne auf\n\nhttps://christen-im-beruf.de/chapter/da-unterwegs/
ATTACH;FMTTYPE=image/jpeg:https://charisma-magazin.eu/wp-content/uploads/2
 024/12/Kurt-Bodenmann.jpg
LOCATION:Restaurant Altes Schalthaus\, Rodensteinweg 2\, Darmstadt\, Hessen
 \, 64293\, Deutschland
GEO:49.875243;8.623333
X-APPLE-STRUCTURED-LOCATION;VALUE=URI;X-ADDRESS=Rodensteinweg 2\, Darmstadt
 \, Hessen\, 64293\, Deutschland;X-APPLE-RADIUS=100;X-TITLE=Restaurant Alte
 s Schalthaus:geo:49.875243,8.623333
END:VEVENT
BEGIN:VTIMEZONE
TZID:Europe/Berlin
X-LIC-LOCATION:Europe/Berlin
BEGIN:DAYLIGHT
DTSTART:20250330T030000
TZOFFSETFROM:+0100
TZOFFSETTO:+0200
TZNAME:CEST
END:DAYLIGHT
END:VTIMEZONE
END:VCALENDAR