BEGIN:VCALENDAR
VERSION:2.0
PRODID:-//wp-events-plugin.com//7.2.3.1//EN
TZID:Europe/Berlin
X-WR-TIMEZONE:Europe/Berlin
BEGIN:VEVENT
UID:202@charisma-magazin.eu
DTSTART;TZID=Europe/Berlin:20260320T140000
DTEND;TZID=Europe/Berlin:20260322T140000
DTSTAMP:20260213T123522Z
URL:https://charisma-magazin.eu/veranstaltungen/vorsorgeseminar/
SUMMARY:Vorsorgeseminar
DESCRIPTION:\n\n\n\nPersönliche Lösungen finden\n\n\n\n\n\n\n\n\n\n 	Info
 rmationen\n 	Kosten\n 	Referent\n\n\n\n\n\n\n\n\n\n\n\n\n\n\n\n\n\nWer ken
 nt sie nicht\, die Aufgaben\, die wir vor uns herschieben? Wir möchten eu
 ch unterstützen: Das Seminar bietet Raum und Zeit\, sich mit den Themen V
 orsorgevollmacht\, Patientenverfügung und Testament auseinanderzusetzen. 
 Euch erwarten Fachvorträge von Rechtsanwalt Christian Schürmann\, sowie 
 ausreichend Zeit für Fragen. Auf Wunsch besteht die Möglichkeit zum pers
 önlichen Gespräch mit Christian Schürmann. Geistliche Impulse\, Zeit zu
 r Entspannung und eine offene\, wohltuende Atmosphäre runden das Wochenen
 de ab.\n\nhttps://neues-leben.de/freizeiten-und-gastgruppen/freizeiten/vor
 sorgeseminar/\n\nAnmeldung\n\n\n\n\n\n\n\n
LOCATION:Neues Leben Campus\, Wölmersen\, 57635 \, Deutschland
GEO:50.715283;7.600657
X-APPLE-STRUCTURED-LOCATION;VALUE=URI;X-ADDRESS=Wölmersen\, 57635 \, Deuts
 chland;X-APPLE-RADIUS=100;X-TITLE=Neues Leben Campus:geo:50.715283,7.60065
 7
END:VEVENT
BEGIN:VTIMEZONE
TZID:Europe/Berlin
X-LIC-LOCATION:Europe/Berlin
BEGIN:STANDARD
DTSTART:20251026T020000
TZOFFSETFROM:+0200
TZOFFSETTO:+0100
TZNAME:CET
END:STANDARD
END:VTIMEZONE
END:VCALENDAR